BEGIN:VCALENDAR
PRODID:NingEventWidget-v1
VERSION:2.0
METHOD:PUBLISH
BEGIN:VEVENT
UID:3531236:Event:99763
DTSTAMP:20260421T212029Z
SUMMARY:CULTURA DE PONTA
DESCRIPTION:No próximo Cultura de Ponta, estudiosos e líderes espiri
 tuais irão trazer ao AfroReggae diferentes conhecimentos e visões so
 bre a vida. Iremos debater, ainda, a importância do ensino religioso 
 que respeite e contemple a crença de cada cultura. O respeito às dif
 erenças e a tolerância religiosa serão as bases para um debate rico
  e esclarecedor.\n\n04/12, às 15h: ENCONTRO INTER-RELIGIOSO Onde é 
 possível reunir os seguidores das grandes religiões do mundo, monote
 ístas ou não, para o diálogo sobre a paz. O diálogo inter-religios
 o é uma forma tolerante de escolher uma religião respeitando e aceit
 ando as outras mutuamente. - Fernando Celino (Comunidade Muçulmana):
  Graduado em Comunicação Social - Jornalismo. Já ministrou diversas
  palestras sobre o Islam e diálogo inter-religioso, além de ter escr
 ito artigos e revisado livros acerca das mesmas temáticas. Atualmente
  exerce o cargo de assessor de comunicação da Sociedade Beneficente 
 Muçulmana do Rio de Janeiro (SBMRJ). - Diácono Nelson Águia (Comun
 idade Católica): Diácono da Igreja Católica Romana. Membro da Comis
 são Estadual de Combate à Intolerância Religiosa. Secretário da Co
 missão da Arquidiocese do Rio para o diálogo inter-religioso e ecum
 nico. Professor de ecumenismo da arquidiocese. Advogado. - Rabino Da
 rio Bialer (Judaísmo): licenciado em Sociologia pela Universidade de 
 Buenos Aires, com mestrado em Literatura Rabínica pelo Schechter Inst
 itute of Jewish Studies, em Jerusalém. Foi representante da “Intern
 ational Raoul Wallenberg Foundation”, onde promove o diálogo inter-
 religioso e, atualmente, exerce a função de Rabino na Associação R
 eligiosa Israelita do Rio de Janeiro – ARI.- Marcio de Jagun (Candom
 blé): Márcio de Jagun foi iniciado no Candomblé há 32 anos é sace
 rdote da religião há dez. É, ainda, conferencista, articulista e au
 tor dos livros Ori - A cabeça como Divindade e Ewe e A Chave do Porta
 l. Há dois anos é apresentador do Programa Ori, na Rádio Metropolit
 ana/Rio. Advogado militante desde 1994. Atualmente, trabalha como prof
 essor de Direito Portuário nos Cursos de Pós-Graduação da Universi
 dade Gama Filho e na UFRJ (COPPE-EAD). Mediadora: Carla Albala Habif
 : Historiadora e mestranda em História pela UFRJ. Atua como professor
 a no colégio Eliezer, Max e como facilitadora de diálogo na Conferê
 ncia Judaico Muçulmana. Atualmente, Carla é a diretora de diálogo i
 nter-religioso e intercultural da Federação Israelita do Rio de Jane
 iro (FIERJ).\n\nPara mais informações, visite https://judaismohumani
 sta.ning.com/events/cultura-de-ponta
DTSTART:20141204T180000Z
DTEND:20141204T193000Z
CATEGORIES:encontro, inter, religioso
LOCATION:Rua da Lapa 180 - Cobertura
WEBSITE:https://www.facebook.com/events/1552955141583770/?pnref=story
URL:https://www.facebook.com/events/1552955141583770/?pnref=story
CONTACT:3095 7200
ORGANIZER;CN="Luna Rozenbaum":https://judaismohumanista.ning.com/profi
 le/LunaRozenbaum
ATTACH;FMTTYPE="image/jpeg":http://storage.ning.com/topology/rest/1.0/
 file/get/2041289845?profile=original
ATTENDEE;ROLE=REQ-PARTICIPANT;PARTSTAT=ACCEPTED;RSVP=TRUE;CN="Luna Roz
 enbaum":https://judaismohumanista.ning.com/profile/LunaRozenbaum
END:VEVENT
END:VCALENDAR
